BEGIN:VCALENDAR
VERSION:2.0
PRODID:-//Village of Bayville NY - ECPv6.15.20//NONSGML v1.0//EN
CALSCALE:GREGORIAN
METHOD:PUBLISH
X-WR-CALNAME:Village of Bayville NY
X-ORIGINAL-URL:https://bayvilleny.gov
X-WR-CALDESC:Events for Village of Bayville NY
REFRESH-INTERVAL;VALUE=DURATION:PT1H
X-Robots-Tag:noindex
X-PUBLISHED-TTL:PT1H
BEGIN:VTIMEZONE
TZID:America/Halifax
BEGIN:DAYLIGHT
TZOFFSETFROM:-0400
TZOFFSETTO:-0300
TZNAME:ADT
DTSTART:20170312T060000
END:DAYLIGHT
BEGIN:STANDARD
TZOFFSETFROM:-0300
TZOFFSETTO:-0400
TZNAME:AST
DTSTART:20171105T050000
END:STANDARD
BEGIN:DAYLIGHT
TZOFFSETFROM:-0400
TZOFFSETTO:-0300
TZNAME:ADT
DTSTART:20180311T060000
END:DAYLIGHT
BEGIN:STANDARD
TZOFFSETFROM:-0300
TZOFFSETTO:-0400
TZNAME:AST
DTSTART:20181104T050000
END:STANDARD
BEGIN:DAYLIGHT
TZOFFSETFROM:-0400
TZOFFSETTO:-0300
TZNAME:ADT
DTSTART:20190310T060000
END:DAYLIGHT
BEGIN:STANDARD
TZOFFSETFROM:-0300
TZOFFSETTO:-0400
TZNAME:AST
DTSTART:20191103T050000
END:STANDARD
END:VTIMEZONE
BEGIN:VEVENT
DTSTART;TZID=America/Halifax:20180827T193000
DTEND;TZID=America/Halifax:20180827T210000
DTSTAMP:20260420T062019
CREATED:20151106T203215Z
LAST-MODIFIED:20220927T195752Z
UID:2347-1535398200-1535403600@bayvilleny.gov
SUMMARY:Board Meeting Cancelled
DESCRIPTION:The regular meeting of the Board of Trustees of the Incorporated Village of Bayville scheduled for Monday\, August 27\, 2018 has been cancelled.\nThe next regular meeting of the Board of Trustees of the Incorporated Village of Bayville will be held on Monday\, September 24\, 2018 at 7:30 PM in Village Hall\, 34 School Street\, Bayville\, New York 11709.
URL:https://bayvilleny.gov/event/board-meeting-2018-08-27
CATEGORIES:Meetings
END:VEVENT
END:VCALENDAR