BEGIN:VCALENDAR
VERSION:2.0
PRODID:-//Village of Bayville NY - ECPv6.15.20//NONSGML v1.0//EN
CALSCALE:GREGORIAN
METHOD:PUBLISH
X-WR-CALNAME:Village of Bayville NY
X-ORIGINAL-URL:https://bayvilleny.gov
X-WR-CALDESC:Events for Village of Bayville NY
REFRESH-INTERVAL;VALUE=DURATION:PT1H
X-Robots-Tag:noindex
X-PUBLISHED-TTL:PT1H
BEGIN:VTIMEZONE
TZID:America/New_York
BEGIN:DAYLIGHT
TZOFFSETFROM:-0500
TZOFFSETTO:-0400
TZNAME:EDT
DTSTART:20170312T070000
END:DAYLIGHT
BEGIN:STANDARD
TZOFFSETFROM:-0400
TZOFFSETTO:-0500
TZNAME:EST
DTSTART:20171105T060000
END:STANDARD
BEGIN:DAYLIGHT
TZOFFSETFROM:-0500
TZOFFSETTO:-0400
TZNAME:EDT
DTSTART:20180311T070000
END:DAYLIGHT
BEGIN:STANDARD
TZOFFSETFROM:-0400
TZOFFSETTO:-0500
TZNAME:EST
DTSTART:20181104T060000
END:STANDARD
BEGIN:DAYLIGHT
TZOFFSETFROM:-0500
TZOFFSETTO:-0400
TZNAME:EDT
DTSTART:20190310T070000
END:DAYLIGHT
BEGIN:STANDARD
TZOFFSETFROM:-0400
TZOFFSETTO:-0500
TZNAME:EST
DTSTART:20191103T060000
END:STANDARD
END:VTIMEZONE
BEGIN:VEVENT
DTSTART;TZID=America/New_York:20180929T100000
DTEND;TZID=America/New_York:20180929T163000
DTSTAMP:20260420T105047
CREATED:20180831T123002Z
LAST-MODIFIED:20180831T123002Z
UID:5409-1538215200-1538238600@bayvilleny.gov
SUMMARY:BFL Event | Defensive Driving
DESCRIPTION:
URL:https://bayvilleny.gov/event/bfl-event-defensive-driving
ATTACH;FMTTYPE=:
END:VEVENT
END:VCALENDAR