BEGIN:VCALENDAR
VERSION:2.0
PRODID:-//Village of Bayville NY - ECPv6.15.20//NONSGML v1.0//EN
CALSCALE:GREGORIAN
METHOD:PUBLISH
X-WR-CALNAME:Village of Bayville NY
X-ORIGINAL-URL:https://bayvilleny.gov
X-WR-CALDESC:Events for Village of Bayville NY
REFRESH-INTERVAL;VALUE=DURATION:PT1H
X-Robots-Tag:noindex
X-PUBLISHED-TTL:PT1H
BEGIN:VTIMEZONE
TZID:America/New_York
BEGIN:DAYLIGHT
TZOFFSETFROM:-0500
TZOFFSETTO:-0400
TZNAME:EDT
DTSTART:20200308T070000
END:DAYLIGHT
BEGIN:STANDARD
TZOFFSETFROM:-0400
TZOFFSETTO:-0500
TZNAME:EST
DTSTART:20201101T060000
END:STANDARD
BEGIN:DAYLIGHT
TZOFFSETFROM:-0500
TZOFFSETTO:-0400
TZNAME:EDT
DTSTART:20210314T070000
END:DAYLIGHT
BEGIN:STANDARD
TZOFFSETFROM:-0400
TZOFFSETTO:-0500
TZNAME:EST
DTSTART:20211107T060000
END:STANDARD
BEGIN:DAYLIGHT
TZOFFSETFROM:-0500
TZOFFSETTO:-0400
TZNAME:EDT
DTSTART:20220313T070000
END:DAYLIGHT
BEGIN:STANDARD
TZOFFSETFROM:-0400
TZOFFSETTO:-0500
TZNAME:EST
DTSTART:20221106T060000
END:STANDARD
END:VTIMEZONE
BEGIN:VEVENT
DTSTART;VALUE=DATE:20211204
DTEND;VALUE=DATE:20211205
DTSTAMP:20260424T045659
CREATED:20211129T133047Z
LAST-MODIFIED:20211129T133047Z
UID:9239-1638576000-1638662399@bayvilleny.gov
SUMMARY:Winter Festival
DESCRIPTION:
URL:https://bayvilleny.gov/event/winter-festival-4
LOCATION:NY
ATTACH;FMTTYPE=:
END:VEVENT
BEGIN:VEVENT
DTSTART;TZID=America/New_York:20211204T083000
DTEND;TZID=America/New_York:20211204T110000
DTSTAMP:20260424T045659
CREATED:20211129T133050Z
LAST-MODIFIED:20211129T133050Z
UID:9245-1638606600-1638615600@bayvilleny.gov
SUMMARY:Community Shred Event
DESCRIPTION:
URL:https://bayvilleny.gov/event/community-shred-event
LOCATION:NY
ATTACH;FMTTYPE=:
END:VEVENT
END:VCALENDAR