BEGIN:VCALENDAR
VERSION:2.0
PRODID:-//Village of Bayville NY - ECPv6.15.20//NONSGML v1.0//EN
CALSCALE:GREGORIAN
METHOD:PUBLISH
X-WR-CALNAME:Village of Bayville NY
X-ORIGINAL-URL:https://bayvilleny.gov
X-WR-CALDESC:Events for Village of Bayville NY
REFRESH-INTERVAL;VALUE=DURATION:PT1H
X-Robots-Tag:noindex
X-PUBLISHED-TTL:PT1H
BEGIN:VTIMEZONE
TZID:America/New_York
BEGIN:DAYLIGHT
TZOFFSETFROM:-0500
TZOFFSETTO:-0400
TZNAME:EDT
DTSTART:20220313T070000
END:DAYLIGHT
BEGIN:STANDARD
TZOFFSETFROM:-0400
TZOFFSETTO:-0500
TZNAME:EST
DTSTART:20221106T060000
END:STANDARD
BEGIN:DAYLIGHT
TZOFFSETFROM:-0500
TZOFFSETTO:-0400
TZNAME:EDT
DTSTART:20230312T070000
END:DAYLIGHT
BEGIN:STANDARD
TZOFFSETFROM:-0400
TZOFFSETTO:-0500
TZNAME:EST
DTSTART:20231105T060000
END:STANDARD
BEGIN:DAYLIGHT
TZOFFSETFROM:-0500
TZOFFSETTO:-0400
TZNAME:EDT
DTSTART:20240310T070000
END:DAYLIGHT
BEGIN:STANDARD
TZOFFSETFROM:-0400
TZOFFSETTO:-0500
TZNAME:EST
DTSTART:20241103T060000
END:STANDARD
END:VTIMEZONE
BEGIN:VEVENT
DTSTART;VALUE=DATE:20231009
DTEND;VALUE=DATE:20231014
DTSTAMP:20260421T060504
CREATED:20230927T173632Z
LAST-MODIFIED:20230927T173632Z
UID:13050-1696809600-1697241599@bayvilleny.gov
SUMMARY:Columbus Day Holiday Schedule
DESCRIPTION:In observance of Columbus Day\, Village Hall & all departments will be closed on\nMonday\, October 9\nHoliday Sanitation Schedule for October 9-13\nBULK TRASH COLLECTION FOR WED\, OCT. 11 IS CANCELLED \nMonday & Thursday garbage days move to Tuesday & Thursday\nTuesday & Friday garbage days move to Wednesday & Friday \nMonday recycling day moves to Tuesday\nTuesday recycling day moves to Wednesday\nThursday & Friday recycling days stay the same
URL:https://bayvilleny.gov/event/columbus-day-holiday-schedule
LOCATION:NY
CATEGORIES:Sanitation
END:VEVENT
END:VCALENDAR