BEGIN:VCALENDAR
VERSION:2.0
PRODID:-//Village of Bayville NY - ECPv6.15.20//NONSGML v1.0//EN
CALSCALE:GREGORIAN
METHOD:PUBLISH
X-WR-CALNAME:Village of Bayville NY
X-ORIGINAL-URL:https://bayvilleny.gov
X-WR-CALDESC:Events for Village of Bayville NY
REFRESH-INTERVAL;VALUE=DURATION:PT1H
X-Robots-Tag:noindex
X-PUBLISHED-TTL:PT1H
BEGIN:VTIMEZONE
TZID:America/New_York
BEGIN:DAYLIGHT
TZOFFSETFROM:-0500
TZOFFSETTO:-0400
TZNAME:EDT
DTSTART:20230312T070000
END:DAYLIGHT
BEGIN:STANDARD
TZOFFSETFROM:-0400
TZOFFSETTO:-0500
TZNAME:EST
DTSTART:20231105T060000
END:STANDARD
BEGIN:DAYLIGHT
TZOFFSETFROM:-0500
TZOFFSETTO:-0400
TZNAME:EDT
DTSTART:20240310T070000
END:DAYLIGHT
BEGIN:STANDARD
TZOFFSETFROM:-0400
TZOFFSETTO:-0500
TZNAME:EST
DTSTART:20241103T060000
END:STANDARD
BEGIN:DAYLIGHT
TZOFFSETFROM:-0500
TZOFFSETTO:-0400
TZNAME:EDT
DTSTART:20250309T070000
END:DAYLIGHT
BEGIN:STANDARD
TZOFFSETFROM:-0400
TZOFFSETTO:-0500
TZNAME:EST
DTSTART:20251102T060000
END:STANDARD
END:VTIMEZONE
BEGIN:VTIMEZONE
TZID:America/Halifax
BEGIN:DAYLIGHT
TZOFFSETFROM:-0400
TZOFFSETTO:-0300
TZNAME:ADT
DTSTART:20230312T060000
END:DAYLIGHT
BEGIN:STANDARD
TZOFFSETFROM:-0300
TZOFFSETTO:-0400
TZNAME:AST
DTSTART:20231105T050000
END:STANDARD
BEGIN:DAYLIGHT
TZOFFSETFROM:-0400
TZOFFSETTO:-0300
TZNAME:ADT
DTSTART:20240310T060000
END:DAYLIGHT
BEGIN:STANDARD
TZOFFSETFROM:-0300
TZOFFSETTO:-0400
TZNAME:AST
DTSTART:20241103T050000
END:STANDARD
BEGIN:DAYLIGHT
TZOFFSETFROM:-0400
TZOFFSETTO:-0300
TZNAME:ADT
DTSTART:20250309T060000
END:DAYLIGHT
BEGIN:STANDARD
TZOFFSETFROM:-0300
TZOFFSETTO:-0400
TZNAME:AST
DTSTART:20251102T050000
END:STANDARD
END:VTIMEZONE
BEGIN:VEVENT
DTSTART;VALUE=DATE:20241014
DTEND;VALUE=DATE:20241019
DTSTAMP:20260423T132116
CREATED:20241003T130156Z
LAST-MODIFIED:20241003T130213Z
UID:14206-1728864000-1729295999@bayvilleny.gov
SUMMARY:Columbus Day Holiday Schedule
DESCRIPTION:In observance of Columbus Day\, Village Hall & all departments will be closed on\nMonday\, October 14\nHoliday Sanitation Schedule for October 14-18\nBULK TRASH COLLECTION FOR WED\, OCT. 16 IS CANCELLED \nMonday garbage day moves to Tuesday\nTuesday garbage day moves to Wednesday\nMonday recycling day moves to Tuesday\nTuesday recycling day moves to Wednesday \nNo change to Thursday & Friday garbage days\nNo change to Thursday & Friday recycling days
URL:https://bayvilleny.gov/event/columbus-day-holiday-schedule-2024
LOCATION:NY
CATEGORIES:Community,Sanitation
END:VEVENT
BEGIN:VEVENT
DTSTART;VALUE=DATE:20241015
DTEND;VALUE=DATE:20241016
DTSTAMP:20260423T132116
CREATED:20151126T015705Z
LAST-MODIFIED:20240930T142305Z
UID:13291-1728950400-1729036799@bayvilleny.gov
SUMMARY:CAR Meeting Rescheduled
DESCRIPTION:The regular meeting of the Committee of Architectural Review of the Incorporated Village of Bayville scheduled for Tuesday\, October 15\, 2024\, has been cancelled and rescheduled for Monday\, October 21\, 2024\, at 6:30 PM in Village Hall\, 34 School Street\, Bayville\, New York 11709.\nMeeting Agendas
URL:https://bayvilleny.gov/event/car-meeting-2024-01-16-2024-10-15
LOCATION:NY
CATEGORIES:Community,Meetings
END:VEVENT
END:VCALENDAR