BEGIN:VCALENDAR
VERSION:2.0
PRODID:-//Village of Bayville NY - ECPv6.15.20//NONSGML v1.0//EN
CALSCALE:GREGORIAN
METHOD:PUBLISH
X-ORIGINAL-URL:https://bayvilleny.gov
X-WR-CALDESC:Events for Village of Bayville NY
REFRESH-INTERVAL;VALUE=DURATION:PT1H
X-Robots-Tag:noindex
X-PUBLISHED-TTL:PT1H
BEGIN:VTIMEZONE
TZID:America/New_York
BEGIN:DAYLIGHT
TZOFFSETFROM:-0500
TZOFFSETTO:-0400
TZNAME:EDT
DTSTART:20240310T070000
END:DAYLIGHT
BEGIN:STANDARD
TZOFFSETFROM:-0400
TZOFFSETTO:-0500
TZNAME:EST
DTSTART:20241103T060000
END:STANDARD
BEGIN:DAYLIGHT
TZOFFSETFROM:-0500
TZOFFSETTO:-0400
TZNAME:EDT
DTSTART:20250309T070000
END:DAYLIGHT
BEGIN:STANDARD
TZOFFSETFROM:-0400
TZOFFSETTO:-0500
TZNAME:EST
DTSTART:20251102T060000
END:STANDARD
BEGIN:DAYLIGHT
TZOFFSETFROM:-0500
TZOFFSETTO:-0400
TZNAME:EDT
DTSTART:20260308T070000
END:DAYLIGHT
BEGIN:STANDARD
TZOFFSETFROM:-0400
TZOFFSETTO:-0500
TZNAME:EST
DTSTART:20261101T060000
END:STANDARD
END:VTIMEZONE
BEGIN:VTIMEZONE
TZID:America/Halifax
BEGIN:DAYLIGHT
TZOFFSETFROM:-0400
TZOFFSETTO:-0300
TZNAME:ADT
DTSTART:20240310T060000
END:DAYLIGHT
BEGIN:STANDARD
TZOFFSETFROM:-0300
TZOFFSETTO:-0400
TZNAME:AST
DTSTART:20241103T050000
END:STANDARD
BEGIN:DAYLIGHT
TZOFFSETFROM:-0400
TZOFFSETTO:-0300
TZNAME:ADT
DTSTART:20250309T060000
END:DAYLIGHT
BEGIN:STANDARD
TZOFFSETFROM:-0300
TZOFFSETTO:-0400
TZNAME:AST
DTSTART:20251102T050000
END:STANDARD
BEGIN:DAYLIGHT
TZOFFSETFROM:-0400
TZOFFSETTO:-0300
TZNAME:ADT
DTSTART:20260308T060000
END:DAYLIGHT
BEGIN:STANDARD
TZOFFSETFROM:-0300
TZOFFSETTO:-0400
TZNAME:AST
DTSTART:20261101T050000
END:STANDARD
END:VTIMEZONE
BEGIN:VEVENT
DTSTART;VALUE=DATE:20250526
DTEND;VALUE=DATE:20250531
DTSTAMP:20260421T072448
CREATED:20250314T142023Z
LAST-MODIFIED:20250314T142023Z
UID:14712-1748217600-1748649599@bayvilleny.gov
SUMMARY:Memorial Day Holiday Schedule
DESCRIPTION:In observance of Memorial Day\, Village Hall & all departments will be closed on\nMonday\, May 26\nHoliday Sanitation Schedule for May 26-30\nBULK TRASH COLLECTION FOR WED\, MAY 28 IS CANCELLED \nMonday garbage day moves to Tuesday\nTuesday garbage day moves to Wednesday\nMonday recycling day moves to Tuesday\nTuesday recycling day moves to Wednesday \nNo change to Thursday & Friday garbage days\nNo change to Thursday & Friday recycling days
URL:https://bayvilleny.gov/event/memorial-day-holiday-schedule
LOCATION:NY
CATEGORIES:Community,Sanitation
END:VEVENT
BEGIN:VEVENT
DTSTART;VALUE=DATE:20250528
DTEND;VALUE=DATE:20250529
DTSTAMP:20260421T072448
CREATED:20151126T020716Z
LAST-MODIFIED:20250513T133322Z
UID:12927-1748390400-1748476799@bayvilleny.gov
SUMMARY:ZBA Meeting Cancelled
DESCRIPTION:The regular meeting of the Zoning Board of Appeals of the Incorporated Village of Bayville scheduled for Wednesday\, May 28\, 2025\, has been cancelled.\nMeeting Agendas | Public Notices
URL:https://bayvilleny.gov/event/zba-meeting-2016-09-28-2018-04-25-2025-05-28
LOCATION:NY
CATEGORIES:Community,Meetings
END:VEVENT
END:VCALENDAR