BEGIN:VCALENDAR
VERSION:2.0
PRODID:-//Village of Bayville NY - ECPv6.15.20//NONSGML v1.0//EN
CALSCALE:GREGORIAN
METHOD:PUBLISH
X-WR-CALNAME:Village of Bayville NY
X-ORIGINAL-URL:https://bayvilleny.gov
X-WR-CALDESC:Events for Village of Bayville NY
REFRESH-INTERVAL;VALUE=DURATION:PT1H
X-Robots-Tag:noindex
X-PUBLISHED-TTL:PT1H
BEGIN:VTIMEZONE
TZID:America/New_York
BEGIN:DAYLIGHT
TZOFFSETFROM:-0500
TZOFFSETTO:-0400
TZNAME:EDT
DTSTART:20250309T070000
END:DAYLIGHT
BEGIN:STANDARD
TZOFFSETFROM:-0400
TZOFFSETTO:-0500
TZNAME:EST
DTSTART:20251102T060000
END:STANDARD
BEGIN:DAYLIGHT
TZOFFSETFROM:-0500
TZOFFSETTO:-0400
TZNAME:EDT
DTSTART:20260308T070000
END:DAYLIGHT
BEGIN:STANDARD
TZOFFSETFROM:-0400
TZOFFSETTO:-0500
TZNAME:EST
DTSTART:20261101T060000
END:STANDARD
BEGIN:DAYLIGHT
TZOFFSETFROM:-0500
TZOFFSETTO:-0400
TZNAME:EDT
DTSTART:20270314T070000
END:DAYLIGHT
BEGIN:STANDARD
TZOFFSETFROM:-0400
TZOFFSETTO:-0500
TZNAME:EST
DTSTART:20271107T060000
END:STANDARD
END:VTIMEZONE
BEGIN:VEVENT
DTSTART;TZID=America/New_York:20260425T090000
DTEND;TZID=America/New_York:20260425T130000
DTSTAMP:20260425T071602
CREATED:20260420T173744Z
LAST-MODIFIED:20260420T173744Z
UID:15749-1777107600-1777122000@bayvilleny.gov
SUMMARY:Earth Day Clean-Up and Drop-Offs on Sat\, April 25\, 2026
DESCRIPTION:
URL:https://bayvilleny.gov/event/earth-day-clean-up-and-drop-offs-on-sat-april-25-2026
LOCATION:Village Hall\, 34 School Street\, Bayville\, NY\, 11709\, United States
CATEGORIES:Community
END:VEVENT
END:VCALENDAR