BEGIN:VCALENDAR
VERSION:2.0
PRODID:-//Village of Bayville NY - ECPv6.15.20//NONSGML v1.0//EN
CALSCALE:GREGORIAN
METHOD:PUBLISH
X-WR-CALNAME:Village of Bayville NY
X-ORIGINAL-URL:https://bayvilleny.gov
X-WR-CALDESC:Events for Village of Bayville NY
REFRESH-INTERVAL;VALUE=DURATION:PT1H
X-Robots-Tag:noindex
X-PUBLISHED-TTL:PT1H
BEGIN:VTIMEZONE
TZID:America/New_York
BEGIN:DAYLIGHT
TZOFFSETFROM:-0500
TZOFFSETTO:-0400
TZNAME:EDT
DTSTART:20230312T070000
END:DAYLIGHT
BEGIN:STANDARD
TZOFFSETFROM:-0400
TZOFFSETTO:-0500
TZNAME:EST
DTSTART:20231105T060000
END:STANDARD
BEGIN:DAYLIGHT
TZOFFSETFROM:-0500
TZOFFSETTO:-0400
TZNAME:EDT
DTSTART:20240310T070000
END:DAYLIGHT
BEGIN:STANDARD
TZOFFSETFROM:-0400
TZOFFSETTO:-0500
TZNAME:EST
DTSTART:20241103T060000
END:STANDARD
BEGIN:DAYLIGHT
TZOFFSETFROM:-0500
TZOFFSETTO:-0400
TZNAME:EDT
DTSTART:20250309T070000
END:DAYLIGHT
BEGIN:STANDARD
TZOFFSETFROM:-0400
TZOFFSETTO:-0500
TZNAME:EST
DTSTART:20251102T060000
END:STANDARD
END:VTIMEZONE
BEGIN:VTIMEZONE
TZID:America/Halifax
BEGIN:DAYLIGHT
TZOFFSETFROM:-0400
TZOFFSETTO:-0300
TZNAME:ADT
DTSTART:20230312T060000
END:DAYLIGHT
BEGIN:STANDARD
TZOFFSETFROM:-0300
TZOFFSETTO:-0400
TZNAME:AST
DTSTART:20231105T050000
END:STANDARD
BEGIN:DAYLIGHT
TZOFFSETFROM:-0400
TZOFFSETTO:-0300
TZNAME:ADT
DTSTART:20240310T060000
END:DAYLIGHT
BEGIN:STANDARD
TZOFFSETFROM:-0300
TZOFFSETTO:-0400
TZNAME:AST
DTSTART:20241103T050000
END:STANDARD
BEGIN:DAYLIGHT
TZOFFSETFROM:-0400
TZOFFSETTO:-0300
TZNAME:ADT
DTSTART:20250309T060000
END:DAYLIGHT
BEGIN:STANDARD
TZOFFSETFROM:-0300
TZOFFSETTO:-0400
TZNAME:AST
DTSTART:20251102T050000
END:STANDARD
END:VTIMEZONE
BEGIN:VEVENT
DTSTART;VALUE=DATE:20241125
DTEND;VALUE=DATE:20241130
DTSTAMP:20260421T121607
CREATED:20241119T151402Z
LAST-MODIFIED:20241119T151415Z
UID:14364-1732492800-1732924799@bayvilleny.gov
SUMMARY:Thanksgiving Holiday Schedule
DESCRIPTION:In observance of Thanksgiving\, Village Hall will be closed on\nThursday\, November 28 & Friday\, November 29\nHoliday Sanitation Schedule for November 25-29\nNORMAL COLLECTION ON FRIDAY\, NOVEMBER 29 \nBULK TRASH COLLECTION FOR WED\, NOV. 27 IS CANCELLED \nThursday garbage day moves to Wednesday\nThursday recycling day moves to Wednesday \nNo change to Monday\, Tuesday\, & Friday garbage days\nNo change to Monday\, Tuesday\, & Friday recycling days
URL:https://bayvilleny.gov/event/thanksgiving-holiday-schedule-2024
LOCATION:NY
CATEGORIES:Community,Sanitation
END:VEVENT
BEGIN:VEVENT
DTSTART;VALUE=DATE:20241127
DTEND;VALUE=DATE:20241128
DTSTAMP:20260421T121607
CREATED:20151126T020716Z
LAST-MODIFIED:20241112T143836Z
UID:12921-1732665600-1732751999@bayvilleny.gov
SUMMARY:ZBA Meeting Cancelled
DESCRIPTION:The regular meeting of the Zoning Board of Appeals of the Incorporated Village of Bayville scheduled for Wednesday\, November 27\, 2024\, has been cancelled.\nMeeting Agendas | Public Notices
URL:https://bayvilleny.gov/event/zba-meeting-2016-09-28-2018-04-25-2024-11-27
LOCATION:NY
CATEGORIES:Community,Meetings
END:VEVENT
END:VCALENDAR