BEGIN:VCALENDAR
VERSION:2.0
PRODID:-//Village of Bayville NY - ECPv6.15.20//NONSGML v1.0//EN
CALSCALE:GREGORIAN
METHOD:PUBLISH
X-WR-CALNAME:Village of Bayville NY
X-ORIGINAL-URL:https://bayvilleny.gov
X-WR-CALDESC:Events for Village of Bayville NY
REFRESH-INTERVAL;VALUE=DURATION:PT1H
X-Robots-Tag:noindex
X-PUBLISHED-TTL:PT1H
BEGIN:VTIMEZONE
TZID:America/New_York
BEGIN:DAYLIGHT
TZOFFSETFROM:-0500
TZOFFSETTO:-0400
TZNAME:EDT
DTSTART:20190310T070000
END:DAYLIGHT
BEGIN:STANDARD
TZOFFSETFROM:-0400
TZOFFSETTO:-0500
TZNAME:EST
DTSTART:20191103T060000
END:STANDARD
BEGIN:DAYLIGHT
TZOFFSETFROM:-0500
TZOFFSETTO:-0400
TZNAME:EDT
DTSTART:20200308T070000
END:DAYLIGHT
BEGIN:STANDARD
TZOFFSETFROM:-0400
TZOFFSETTO:-0500
TZNAME:EST
DTSTART:20201101T060000
END:STANDARD
BEGIN:DAYLIGHT
TZOFFSETFROM:-0500
TZOFFSETTO:-0400
TZNAME:EDT
DTSTART:20210314T070000
END:DAYLIGHT
BEGIN:STANDARD
TZOFFSETFROM:-0400
TZOFFSETTO:-0500
TZNAME:EST
DTSTART:20211107T060000
END:STANDARD
END:VTIMEZONE
BEGIN:VTIMEZONE
TZID:America/Halifax
BEGIN:DAYLIGHT
TZOFFSETFROM:-0400
TZOFFSETTO:-0300
TZNAME:ADT
DTSTART:20190310T060000
END:DAYLIGHT
BEGIN:STANDARD
TZOFFSETFROM:-0300
TZOFFSETTO:-0400
TZNAME:AST
DTSTART:20191103T050000
END:STANDARD
BEGIN:DAYLIGHT
TZOFFSETFROM:-0400
TZOFFSETTO:-0300
TZNAME:ADT
DTSTART:20200308T060000
END:DAYLIGHT
BEGIN:STANDARD
TZOFFSETFROM:-0300
TZOFFSETTO:-0400
TZNAME:AST
DTSTART:20201101T050000
END:STANDARD
BEGIN:DAYLIGHT
TZOFFSETFROM:-0400
TZOFFSETTO:-0300
TZNAME:ADT
DTSTART:20210314T060000
END:DAYLIGHT
BEGIN:STANDARD
TZOFFSETFROM:-0300
TZOFFSETTO:-0400
TZNAME:AST
DTSTART:20211107T050000
END:STANDARD
END:VTIMEZONE
BEGIN:VEVENT
DTSTART;VALUE=DATE:20200706
DTEND;VALUE=DATE:20200707
DTSTAMP:20260424T160445
CREATED:20200701T123059Z
LAST-MODIFIED:20220927T201003Z
UID:7937-1593993600-1594079999@bayvilleny.gov
SUMMARY:Organizational Meeting Rescheduled
DESCRIPTION:The organizational meeting of the Board of Trustees of the Incorporated Village of Bayville scheduled for Monday\, July 6\, 2020 has been postponed due to postponement of 2020 General Village Election. The organizational meeting has been tentatively rescheduled for Monday\, October 5\, 2020.\nMeeting Agendas | Public Notices
URL:https://bayvilleny.gov/event/organizational-meeting-rescheduled
LOCATION:NY
CATEGORIES:Meetings
END:VEVENT
BEGIN:VEVENT
DTSTART;TZID=America/New_York:20200714T193000
DTEND;TZID=America/New_York:20200714T193000
DTSTAMP:20260424T160445
CREATED:20181204T202358Z
LAST-MODIFIED:20220927T201019Z
UID:5785-1594755000-1594755000@bayvilleny.gov
SUMMARY:PB Meeting Cancelled
DESCRIPTION:The regular meeting of the Planning Board of the Incorporated Village of Bayville scheduled for Tuesday\, July 14\, 2020 has been cancelled.\nMeeting Agendas | Public Notices
URL:https://bayvilleny.gov/event/planning-board-meeting-2-2020-07-14
LOCATION:NY
CATEGORIES:Meetings
END:VEVENT
BEGIN:VEVENT
DTSTART;TZID=America/New_York:20200716T193000
DTEND;TZID=America/New_York:20200716T193000
DTSTAMP:20260424T160445
CREATED:20160608T131142Z
LAST-MODIFIED:20220927T201010Z
UID:7410-1594927800-1594927800@bayvilleny.gov
SUMMARY:BECC Meeting Cancelled
DESCRIPTION:The regular meeting of the Bayville Environmental Conservation Commission of the Incorporated Village of Bayville scheduled for Thursday\, July 16\, 2020 has been cancelled.
URL:https://bayvilleny.gov/event/becc-meeting-5-2017-04-19-2020-07-16
LOCATION:NY
CATEGORIES:Meetings
END:VEVENT
BEGIN:VEVENT
DTSTART;TZID=America/Halifax:20200721T193000
DTEND;TZID=America/Halifax:20200721T193000
DTSTAMP:20260424T160445
CREATED:20151126T015705Z
LAST-MODIFIED:20220927T201015Z
UID:6006-1595359800-1595359800@bayvilleny.gov
SUMMARY:CAR Meeting Cancelled
DESCRIPTION:The regular meeting of the Committee of Architectural Review of the Incorporated Village of Bayville scheduled for Tuesday\, July 21\, 2020 has been cancelled.\nMeeting Agendas
URL:https://bayvilleny.gov/event/car-meeting-2020-07-21
LOCATION:NY
CATEGORIES:Meetings
END:VEVENT
BEGIN:VEVENT
DTSTART;TZID=America/Halifax:20200727T100000
DTEND;TZID=America/Halifax:20200727T100000
DTSTAMP:20260424T160445
CREATED:20151106T203215Z
LAST-MODIFIED:20220927T201029Z
UID:5912-1595844000-1595844000@bayvilleny.gov
SUMMARY:Board Meeting via Zoom
DESCRIPTION:As per the Governor’s Executive Orders\, issued in response to the coronavirus pandemic\, the Board of Trustees of the Incorporated Village of Bayville will hold a regular meeting via teleconferencing application Zoom on Monday\, July 27\, 2020 at 10:00 AM. Use information below to access meeting.\nVideo tutorials for the Zoom app are available online at: https://support.zoom.us/hc/en-us \nTopic: Board Meeting | July 27\, 2020\nTime: July 27\, 2020 10:00 AM Eastern Time (US and Canada) \nJoin Zoom Meeting:\nhttps://zoom.us/j/93422100989\n \nMeeting ID: 934 2210 0989\nPassword: 2871698 \nDial by your location\n+1 646 558 8656 US (New York) \nMeeting ID: 934 2210 0989\nPassword: 2871698 \nOne tap mobile\n+16465588656\,\,93422100989#\,\,\,\,\,\,0#\,\,2871698# US (New York) \nMeeting Agendas | Public Notices
URL:https://bayvilleny.gov/event/board-meeting-2020-07-27
LOCATION:NY
CATEGORIES:Meetings
END:VEVENT
END:VCALENDAR