BEGIN:VCALENDAR
VERSION:2.0
PRODID:-//Village of Bayville NY - ECPv6.15.20//NONSGML v1.0//EN
CALSCALE:GREGORIAN
METHOD:PUBLISH
X-ORIGINAL-URL:https://bayvilleny.gov
X-WR-CALDESC:Events for Village of Bayville NY
REFRESH-INTERVAL;VALUE=DURATION:PT1H
X-Robots-Tag:noindex
X-PUBLISHED-TTL:PT1H
BEGIN:VTIMEZONE
TZID:America/New_York
BEGIN:DAYLIGHT
TZOFFSETFROM:-0500
TZOFFSETTO:-0400
TZNAME:EDT
DTSTART:20190310T070000
END:DAYLIGHT
BEGIN:STANDARD
TZOFFSETFROM:-0400
TZOFFSETTO:-0500
TZNAME:EST
DTSTART:20191103T060000
END:STANDARD
BEGIN:DAYLIGHT
TZOFFSETFROM:-0500
TZOFFSETTO:-0400
TZNAME:EDT
DTSTART:20200308T070000
END:DAYLIGHT
BEGIN:STANDARD
TZOFFSETFROM:-0400
TZOFFSETTO:-0500
TZNAME:EST
DTSTART:20201101T060000
END:STANDARD
BEGIN:DAYLIGHT
TZOFFSETFROM:-0500
TZOFFSETTO:-0400
TZNAME:EDT
DTSTART:20210314T070000
END:DAYLIGHT
BEGIN:STANDARD
TZOFFSETFROM:-0400
TZOFFSETTO:-0500
TZNAME:EST
DTSTART:20211107T060000
END:STANDARD
END:VTIMEZONE
BEGIN:VTIMEZONE
TZID:America/Halifax
BEGIN:DAYLIGHT
TZOFFSETFROM:-0400
TZOFFSETTO:-0300
TZNAME:ADT
DTSTART:20190310T060000
END:DAYLIGHT
BEGIN:STANDARD
TZOFFSETFROM:-0300
TZOFFSETTO:-0400
TZNAME:AST
DTSTART:20191103T050000
END:STANDARD
BEGIN:DAYLIGHT
TZOFFSETFROM:-0400
TZOFFSETTO:-0300
TZNAME:ADT
DTSTART:20200308T060000
END:DAYLIGHT
BEGIN:STANDARD
TZOFFSETFROM:-0300
TZOFFSETTO:-0400
TZNAME:AST
DTSTART:20201101T050000
END:STANDARD
BEGIN:DAYLIGHT
TZOFFSETFROM:-0400
TZOFFSETTO:-0300
TZNAME:ADT
DTSTART:20210314T060000
END:DAYLIGHT
BEGIN:STANDARD
TZOFFSETFROM:-0300
TZOFFSETTO:-0400
TZNAME:AST
DTSTART:20211107T050000
END:STANDARD
END:VTIMEZONE
BEGIN:VEVENT
DTSTART;TZID=America/New_York:20200811T193000
DTEND;TZID=America/New_York:20200811T193000
DTSTAMP:20260424T172449
CREATED:20181204T202358Z
LAST-MODIFIED:20220927T201033Z
UID:5786-1597174200-1597174200@bayvilleny.gov
SUMMARY:PB Meeting Cancelled
DESCRIPTION:The regular meeting of the Planning Board of the Incorporated Village of Bayville scheduled for Tuesday\, August 11\, 2020 has been cancelled.\nMeeting Agendas | Public Notices
URL:https://bayvilleny.gov/event/planning-board-meeting-2-2020-08-11
LOCATION:NY
CATEGORIES:Meetings
END:VEVENT
BEGIN:VEVENT
DTSTART;TZID=America/Halifax:20200818T193000
DTEND;TZID=America/Halifax:20200818T193000
DTSTAMP:20260424T172449
CREATED:20151126T015705Z
LAST-MODIFIED:20220927T201037Z
UID:6007-1597779000-1597779000@bayvilleny.gov
SUMMARY:CAR Meeting Cancelled
DESCRIPTION:The regular meeting of the Committee of Architectural Review of the Incorporated Village of Bayville scheduled for Tuesday\, August 18\, 2020 has been cancelled.\nMeeting Agendas
URL:https://bayvilleny.gov/event/car-meeting-2020-08-18
LOCATION:NY
CATEGORIES:Meetings
END:VEVENT
BEGIN:VEVENT
DTSTART;TZID=America/New_York:20200820T193000
DTEND;TZID=America/New_York:20200820T193000
DTSTAMP:20260424T172449
CREATED:20160608T131142Z
LAST-MODIFIED:20220927T201044Z
UID:7411-1597951800-1597951800@bayvilleny.gov
SUMMARY:BECC Meeting Cancelled
DESCRIPTION:The regular meeting of the Bayville Environmental Conservation Commission of the Incorporated Village of Bayville scheduled for Thursday\, August 20\, 2020 has been cancelled.
URL:https://bayvilleny.gov/event/becc-meeting-5-2017-04-19-2020-08-20
LOCATION:NY
CATEGORIES:Meetings
END:VEVENT
BEGIN:VEVENT
DTSTART;TZID=America/Halifax:20200824T100000
DTEND;TZID=America/Halifax:20200824T100000
DTSTAMP:20260424T172449
CREATED:20151106T203215Z
LAST-MODIFIED:20220927T201049Z
UID:5913-1598263200-1598263200@bayvilleny.gov
SUMMARY:Board Meeting via Zoom
DESCRIPTION:As per the Governor’s Executive Orders\, issued in response to the coronavirus pandemic\, the Board of Trustees of the Incorporated Village of Bayville will hold a regular meeting via teleconferencing application Zoom on Monday\, August 24\, 2020 at 10:00 AM. Use information below to access meeting.\nVideo tutorials for the Zoom app are available online at: https://support.zoom.us/hc/en-us \nTopic: Board Meeting | August 24\, 2020\nTime: August 24\, 2020 10:00 AM Eastern Time (US and Canada) \nJoin Zoom Meeting:\nhttps://zoom.us/j/94371863357\n \nMeeting ID: 943 7186 3357\nPassword: 745984 \nDial by your location\n+1 646 558 8656 US (New York) \nMeeting ID: 943 7186 3357\nPassword: 745984 \nOne tap mobile\n+16465588656\,\,94371863357#\,\,\,\,\,\,0#\,\,745984# US (New York) \nMeeting Agendas | Public Notices
URL:https://bayvilleny.gov/event/board-meeting-2020-08-24
LOCATION:NY
CATEGORIES:Meetings
END:VEVENT
END:VCALENDAR