BEGIN:VCALENDAR
VERSION:2.0
PRODID:-//Village of Bayville NY - ECPv6.15.20//NONSGML v1.0//EN
CALSCALE:GREGORIAN
METHOD:PUBLISH
X-ORIGINAL-URL:https://bayvilleny.gov
X-WR-CALDESC:Events for Village of Bayville NY
REFRESH-INTERVAL;VALUE=DURATION:PT1H
X-Robots-Tag:noindex
X-PUBLISHED-TTL:PT1H
BEGIN:VTIMEZONE
TZID:America/New_York
BEGIN:DAYLIGHT
TZOFFSETFROM:-0500
TZOFFSETTO:-0400
TZNAME:EDT
DTSTART:20210314T070000
END:DAYLIGHT
BEGIN:STANDARD
TZOFFSETFROM:-0400
TZOFFSETTO:-0500
TZNAME:EST
DTSTART:20211107T060000
END:STANDARD
BEGIN:DAYLIGHT
TZOFFSETFROM:-0500
TZOFFSETTO:-0400
TZNAME:EDT
DTSTART:20220313T070000
END:DAYLIGHT
BEGIN:STANDARD
TZOFFSETFROM:-0400
TZOFFSETTO:-0500
TZNAME:EST
DTSTART:20221106T060000
END:STANDARD
BEGIN:DAYLIGHT
TZOFFSETFROM:-0500
TZOFFSETTO:-0400
TZNAME:EDT
DTSTART:20230312T070000
END:DAYLIGHT
BEGIN:STANDARD
TZOFFSETFROM:-0400
TZOFFSETTO:-0500
TZNAME:EST
DTSTART:20231105T060000
END:STANDARD
END:VTIMEZONE
BEGIN:VEVENT
DTSTART;TZID=America/New_York:20221027T190000
DTEND;TZID=America/New_York:20221027T200000
DTSTAMP:20260421T142305
CREATED:20221019T202140Z
LAST-MODIFIED:20221019T202140Z
UID:11076-1666897200-1666900800@bayvilleny.gov
SUMMARY:BECC Meeting
DESCRIPTION:The Bayville Environmental Conservation Commission of the Incorporated Village of Bayville (BECC) will hold a meeting on Thursday\, October 27\, 2022\, at 7:00 PM in the Community Center\, 88 Bayville Avenue\, Bayville\, New York 11709.\nThe regular meeting of the Bayville Environmental Conservation Commission of the Incorporated Village of Bayville (BECC) scheduled for Thursday\, October 20\, 2022\, has been cancelled.
URL:https://bayvilleny.gov/event/becc-meeting-17
LOCATION:NY
CATEGORIES:Meetings
END:VEVENT
END:VCALENDAR