BEGIN:VCALENDAR
VERSION:2.0
PRODID:-//Village of Bayville NY - ECPv6.15.20//NONSGML v1.0//EN
CALSCALE:GREGORIAN
METHOD:PUBLISH
X-WR-CALNAME:Village of Bayville NY
X-ORIGINAL-URL:https://bayvilleny.gov
X-WR-CALDESC:Events for Village of Bayville NY
REFRESH-INTERVAL;VALUE=DURATION:PT1H
X-Robots-Tag:noindex
X-PUBLISHED-TTL:PT1H
BEGIN:VTIMEZONE
TZID:America/New_York
BEGIN:DAYLIGHT
TZOFFSETFROM:-0500
TZOFFSETTO:-0400
TZNAME:EDT
DTSTART:20170312T070000
END:DAYLIGHT
BEGIN:STANDARD
TZOFFSETFROM:-0400
TZOFFSETTO:-0500
TZNAME:EST
DTSTART:20171105T060000
END:STANDARD
BEGIN:DAYLIGHT
TZOFFSETFROM:-0500
TZOFFSETTO:-0400
TZNAME:EDT
DTSTART:20180311T070000
END:DAYLIGHT
BEGIN:STANDARD
TZOFFSETFROM:-0400
TZOFFSETTO:-0500
TZNAME:EST
DTSTART:20181104T060000
END:STANDARD
BEGIN:DAYLIGHT
TZOFFSETFROM:-0500
TZOFFSETTO:-0400
TZNAME:EDT
DTSTART:20190310T070000
END:DAYLIGHT
BEGIN:STANDARD
TZOFFSETFROM:-0400
TZOFFSETTO:-0500
TZNAME:EST
DTSTART:20191103T060000
END:STANDARD
BEGIN:DAYLIGHT
TZOFFSETFROM:-0500
TZOFFSETTO:-0400
TZNAME:EDT
DTSTART:20200308T070000
END:DAYLIGHT
BEGIN:STANDARD
TZOFFSETFROM:-0400
TZOFFSETTO:-0500
TZNAME:EST
DTSTART:20201101T060000
END:STANDARD
BEGIN:DAYLIGHT
TZOFFSETFROM:-0500
TZOFFSETTO:-0400
TZNAME:EDT
DTSTART:20210314T070000
END:DAYLIGHT
BEGIN:STANDARD
TZOFFSETFROM:-0400
TZOFFSETTO:-0500
TZNAME:EST
DTSTART:20211107T060000
END:STANDARD
BEGIN:DAYLIGHT
TZOFFSETFROM:-0500
TZOFFSETTO:-0400
TZNAME:EDT
DTSTART:20220313T070000
END:DAYLIGHT
BEGIN:STANDARD
TZOFFSETFROM:-0400
TZOFFSETTO:-0500
TZNAME:EST
DTSTART:20221106T060000
END:STANDARD
BEGIN:DAYLIGHT
TZOFFSETFROM:-0500
TZOFFSETTO:-0400
TZNAME:EDT
DTSTART:20230312T070000
END:DAYLIGHT
BEGIN:STANDARD
TZOFFSETFROM:-0400
TZOFFSETTO:-0500
TZNAME:EST
DTSTART:20231105T060000
END:STANDARD
END:VTIMEZONE
BEGIN:VEVENT
DTSTART;VALUE=DATE:20220704
DTEND;VALUE=DATE:20220705
DTSTAMP:20260421T152748
CREATED:20220601T123025Z
LAST-MODIFIED:20220927T203114Z
UID:9889-1656892800-1656979199@bayvilleny.gov
SUMMARY:Independence Day
DESCRIPTION:In observance of Independence Day\,\nVillage Hall & all departments will be closed on Mon\, July 4\nHoliday Sanitation Schedule for July 4-8\nBulk trash pick up for Wed\, Jul 6 is cancelled\nMon garbage day moves to Tues\nTues garbage day moves to Wed\nMon recycling day moves to Tues\nTues recycling day moves to Wed\nNo change to Thurs & Fri garbage days\nNo change to Thurs & Fri recycling days
URL:https://bayvilleny.gov/event/independence-day-4
CATEGORIES:Sanitation
END:VEVENT
BEGIN:VEVENT
DTSTART;VALUE=DATE:20220530
DTEND;VALUE=DATE:20220531
DTSTAMP:20260421T152748
CREATED:20220523T123004Z
LAST-MODIFIED:20220927T203136Z
UID:9743-1653868800-1653955199@bayvilleny.gov
SUMMARY:Memorial Day
DESCRIPTION:In observance of Memorial Day\,\nVillage Hall & all departments will be closed on Mon\, May 30\nHoliday Sanitation Schedule for May 30-Jun 3\nBulk trash pick up for Wed\, Jun 1 is cancelled\nMon garbage day moves to Tues\nTues garbage day moves to Wed\nMon recycling day moves to Tues\nTues recycling day moves to Wed\nNo change to Thurs & Fri garbage days\nNo change to Thurs & Fri recycling days
URL:https://bayvilleny.gov/event/memorial-day-6
CATEGORIES:Sanitation
END:VEVENT
BEGIN:VEVENT
DTSTART;VALUE=DATE:20220221
DTEND;VALUE=DATE:20220222
DTSTAMP:20260421T152748
CREATED:20220214T133012Z
LAST-MODIFIED:20220927T203124Z
UID:9444-1645401600-1645487999@bayvilleny.gov
SUMMARY:Holiday Sanitation Schedule
DESCRIPTION:In observance of Presidents Day\, Village Hall and all departments will be closed on Monday\, February 21\nHoliday Sanitation Schedule for Feb 21-25\nBULK TRASH COLLECTION FOR WED.\, FEB. 23 IS CANCELLED \nMonday & Thursday garbage days move to Tuesday & Thursday\nTuesday & Friday garbage days move to Wednesday & Friday \nMonday recycling day moves to Tuesday\nTuesday recycling day moves to Wednesday\nThursday & Friday recycling days stay the same
URL:https://bayvilleny.gov/event/presidents-day-6
CATEGORIES:Sanitation
END:VEVENT
BEGIN:VEVENT
DTSTART;VALUE=DATE:20220117
DTEND;VALUE=DATE:20220118
DTSTAMP:20260421T152748
CREATED:20211214T193315Z
LAST-MODIFIED:20220927T203127Z
UID:9310-1642377600-1642463999@bayvilleny.gov
SUMMARY:MLK Day Holiday Schedule
DESCRIPTION:In observance of Martin Luther King Jr. Day\, Village Hall and all departments will be closed on Monday\, January 17\nHoliday Sanitation Schedule for Jan 17-21\nBULK TRASH COLLECTION FOR WED\, JAN 19 IS CANCELLED \nMonday & Thursday garbage days move to Tuesday & Thursday\nTuesday & Friday garbage days move to Wednesday & Friday \nMonday recycling day moves to Tuesday\nTuesday recycling day moves to Wednesday\nThursday & Friday recycling days stay the same
URL:https://bayvilleny.gov/event/mlk-day-2022
CATEGORIES:Sanitation
END:VEVENT
BEGIN:VEVENT
DTSTART;VALUE=DATE:20211229
DTEND;VALUE=DATE:20220101
DTSTAMP:20260421T152748
CREATED:20211213T133021Z
LAST-MODIFIED:20220927T203131Z
UID:9288-1640736000-1640995199@bayvilleny.gov
SUMMARY:Holiday Sanitation Schedule
DESCRIPTION:In observance of New Year’s Eve & New Year’s Day\, \nVillage Hall will close at 12:30 PM on \nThursday\, Dec 30 & be closed all day on Friday\, Dec 31\nHoliday Sanitation Schedule for Dec 27-31\nBulk trash pick up for Wed\, Dec 29 is cancelled\nMon & Thurs garbage days move to Mon & Wed\nTues & Fri garbage days move to Tues & Thurs\nMon & Tues recycling days stay the same\nThurs recycling day moves to Wed\nFri recycling day moves to Thurs
URL:https://bayvilleny.gov/event/holiday-sanitation-schedule-new-years-2022
CATEGORIES:Sanitation
END:VEVENT
BEGIN:VEVENT
DTSTART;VALUE=DATE:20211222
DTEND;VALUE=DATE:20211225
DTSTAMP:20260421T152748
CREATED:20211213T133052Z
LAST-MODIFIED:20220927T203142Z
UID:9286-1640131200-1640390399@bayvilleny.gov
SUMMARY:Holiday Sanitation Schedule
DESCRIPTION:In observance of Christmas Eve & Christmas Day\, \nVillage Hall will close at 12:30 PM on \nThursday\, Dec 23 & be closed all day on Friday\, Dec 24\nHoliday Sanitation Schedule for Dec 20-24\nBulk trash pick up for Wed\, Dec 22 is cancelled\nNext bulk trash collection day will be Wed\, Jan 12\nMon & Thurs garbage days move to Mon & Wed\nTues & Fri garbage days move to Tues & Thurs\nMon & Tues recycling days stay the same\nThurs recycling day moves to Wed\nFri recycling day moves to Thurs
URL:https://bayvilleny.gov/event/holiday-sanitation-schedule-christmas-2021
CATEGORIES:Sanitation
END:VEVENT
BEGIN:VEVENT
DTSTART;VALUE=DATE:20211125
DTEND;VALUE=DATE:20211127
DTSTAMP:20260421T152748
CREATED:20211029T123032Z
LAST-MODIFIED:20220927T203146Z
UID:9165-1637798400-1637971199@bayvilleny.gov
SUMMARY:Thanksgiving
DESCRIPTION:In observance of Thanksgiving Day\, \nVillage Hall will be closed on \nThursday\, November 25 & Friday\, November 26\nHoliday Sanitation Schedule for Nov. 22-26\nBulk trash pick up for Wed.\, November 24 is cancelled \nAreas 3 & 4 will not have bulk trash pickup in November \nNext bulk trash pick up day for Areas 3 & 4 is Dec. 8 \nMonday & Thursday garbage days move to Monday & Wednesday\nTuesday & Friday garbage days stay the same\nMonday\, Tuesday & Friday recycling days stay the same\nThursday recycling day moves to Wednesday
URL:https://bayvilleny.gov/event/thanksgiving-2021
CATEGORIES:Sanitation
END:VEVENT
BEGIN:VEVENT
DTSTART;VALUE=DATE:20211111
DTEND;VALUE=DATE:20211112
DTSTAMP:20260421T152748
CREATED:20211104T123030Z
LAST-MODIFIED:20220927T203153Z
UID:9172-1636588800-1636675199@bayvilleny.gov
SUMMARY:Veterans Day
DESCRIPTION:In observance of Veterans Day\, Village Hall and all departments will be closed on Thursday\, November 11\nHoliday Sanitation Schedule for Nov. 8-12\nBulk trash pick up on Wed.\, Nov. 10 is cancelled\nAreas 3 & 4 will not have bulk trash pickup in November\nNext bulk trash pick up day for Areas 3 & 4 is Dec. 8\nMonday & Thursday garbage days move to Monday & Wednesday\nTuesday & Friday garbage days stay the same\nMonday\, Tuesday\, & Friday recycling days stay the same\nThursday recycling day moves to Wednesday
URL:https://bayvilleny.gov/event/veterans-day-2021
CATEGORIES:Sanitation
END:VEVENT
BEGIN:VEVENT
DTSTART;VALUE=DATE:20211011
DTEND;VALUE=DATE:20211012
DTSTAMP:20260421T152748
CREATED:20211007T123020Z
LAST-MODIFIED:20220927T203155Z
UID:9087-1633910400-1633996799@bayvilleny.gov
SUMMARY:Columbus Day
DESCRIPTION:In observance of Columbus Day\, Village Hall and all departments will be closed on Monday\, October 11\nHoliday Sanitation Schedule for Oct. 11-15\nBULK TRASH COLLECTION FOR WED.\, OCT. 13 IS CANCELLED \nMonday & Thursday garbage days move to Tuesday & Thursday\nTuesday & Friday garbage days move to Wednesday & Friday \nMonday recycling day moves to Tuesday\nTuesday recycling day moves to Wednesday\nThursday & Friday recycling days stay the same
URL:https://bayvilleny.gov/event/columbus-day-5
CATEGORIES:Sanitation
END:VEVENT
BEGIN:VEVENT
DTSTART;VALUE=DATE:20210906
DTEND;VALUE=DATE:20210907
DTSTAMP:20260421T152748
CREATED:20210901T123000Z
LAST-MODIFIED:20220927T203158Z
UID:8997-1630886400-1630972799@bayvilleny.gov
SUMMARY:Labor Day
DESCRIPTION:In observance of Labor Day\, Village Hall and all departments will be closed on Monday\, September 6\nHoliday Sanitation Schedule for Sep. 6-10\nBULK TRASH COLLECTION FOR WED.\, SEP. 8 IS CANCELLED\nMon & Thurs garbage days move to Tues & Thurs\nTues & Fri garbage days move to Wed & Fri\nMon recycling days moves to Tues\nTues recycling day moves to Wed\nThurs & Fri recycling days stay the same
URL:https://bayvilleny.gov/event/labor-day-4
CATEGORIES:Sanitation
END:VEVENT
BEGIN:VEVENT
DTSTART;VALUE=DATE:20210705
DTEND;VALUE=DATE:20210706
DTSTAMP:20260421T152748
CREATED:20210630T123038Z
LAST-MODIFIED:20220927T203201Z
UID:8845-1625443200-1625529599@bayvilleny.gov
SUMMARY:Independence Day (observed)
DESCRIPTION:In observance of Independence Day\, Village Hall and all departments will be closed on Monday\, July 5\nHoliday Sanitation Schedule for July 5-9\nNo bulk trash collection on Wednesday\, Jul 7\nMonday & Thursday garbage days move to Tuesday & Thursday\nTuesday & Friday garbage days move to Wednesday & Friday \nMonday recycling day moves to Tuesday\nTuesday recycling day moves to Wednesday\nThursday & Friday recycling days stay the same
URL:https://bayvilleny.gov/event/independence-day-observed
CATEGORIES:Sanitation
END:VEVENT
BEGIN:VEVENT
DTSTART;VALUE=DATE:20201224
DTEND;VALUE=DATE:20201226
DTSTAMP:20260421T152748
CREATED:20201218T133028Z
LAST-MODIFIED:20220927T203034Z
UID:8319-1608768000-1608940799@bayvilleny.gov
SUMMARY:Christmas Holiday Sanitation Schedule
DESCRIPTION:In observance of Christmas Eve & Christmas Day\, \nVillage Hall will close at 12:30 PM on \nThursday\, Dec 24 & be closed Friday\, Dec 25\nHoliday Sanitation Schedule for Dec 21-25\nBulk trash pick up for Wed\, Dec 23 is cancelled\nMon & Thurs garbage days move to Mon & Wed\nTues & Fri garbage days move to Tues & Thurs\nMon & Tues recycling days stay the same\nThurs recycling day moves to Wed\nFri recycling day moves to Thurs
URL:https://bayvilleny.gov/event/christmas-holiday-sanitation-schedule-2020
CATEGORIES:Sanitation
END:VEVENT
BEGIN:VEVENT
DTSTART;VALUE=DATE:20181122
DTEND;VALUE=DATE:20181124
DTSTAMP:20260421T152748
CREATED:20181116T220705Z
LAST-MODIFIED:20220927T203259Z
UID:5716-1542844800-1543017599@bayvilleny.gov
SUMMARY:Thanksgiving
DESCRIPTION:In observance of Thanksgiving Day\, \nVillage Hall will be closed on \nThursday\, November 22 & Friday\, November 23\nHoliday Sanitation Schedule for Nov. 19-23\nMonday & Thursday garbage days move to Monday & Wednesday\nTuesday & Friday garbage days stay the same\nMonday\, Tuesday & Friday recycling days stay the same\nThursday recycling day moves to Wednesday\nThere will be NO bulk trash pick up on Wed.\, November 21
URL:https://bayvilleny.gov/event/thanksgiving-3
CATEGORIES:Sanitation
ATTACH;FMTTYPE=:
END:VEVENT
END:VCALENDAR