BEGIN:VCALENDAR
VERSION:2.0
PRODID:-//Village of Bayville NY - ECPv6.15.20//NONSGML v1.0//EN
CALSCALE:GREGORIAN
METHOD:PUBLISH
X-WR-CALNAME:Village of Bayville NY
X-ORIGINAL-URL:https://bayvilleny.gov
X-WR-CALDESC:Events for Village of Bayville NY
REFRESH-INTERVAL;VALUE=DURATION:PT1H
X-Robots-Tag:noindex
X-PUBLISHED-TTL:PT1H
BEGIN:VTIMEZONE
TZID:America/New_York
BEGIN:DAYLIGHT
TZOFFSETFROM:-0500
TZOFFSETTO:-0400
TZNAME:EDT
DTSTART:20190310T070000
END:DAYLIGHT
BEGIN:STANDARD
TZOFFSETFROM:-0400
TZOFFSETTO:-0500
TZNAME:EST
DTSTART:20191103T060000
END:STANDARD
BEGIN:DAYLIGHT
TZOFFSETFROM:-0500
TZOFFSETTO:-0400
TZNAME:EDT
DTSTART:20200308T070000
END:DAYLIGHT
BEGIN:STANDARD
TZOFFSETFROM:-0400
TZOFFSETTO:-0500
TZNAME:EST
DTSTART:20201101T060000
END:STANDARD
BEGIN:DAYLIGHT
TZOFFSETFROM:-0500
TZOFFSETTO:-0400
TZNAME:EDT
DTSTART:20210314T070000
END:DAYLIGHT
BEGIN:STANDARD
TZOFFSETFROM:-0400
TZOFFSETTO:-0500
TZNAME:EST
DTSTART:20211107T060000
END:STANDARD
END:VTIMEZONE
BEGIN:VTIMEZONE
TZID:America/Halifax
BEGIN:DAYLIGHT
TZOFFSETFROM:-0400
TZOFFSETTO:-0300
TZNAME:ADT
DTSTART:20190310T060000
END:DAYLIGHT
BEGIN:STANDARD
TZOFFSETFROM:-0300
TZOFFSETTO:-0400
TZNAME:AST
DTSTART:20191103T050000
END:STANDARD
BEGIN:DAYLIGHT
TZOFFSETFROM:-0400
TZOFFSETTO:-0300
TZNAME:ADT
DTSTART:20200308T060000
END:DAYLIGHT
BEGIN:STANDARD
TZOFFSETFROM:-0300
TZOFFSETTO:-0400
TZNAME:AST
DTSTART:20201101T050000
END:STANDARD
BEGIN:DAYLIGHT
TZOFFSETFROM:-0400
TZOFFSETTO:-0300
TZNAME:ADT
DTSTART:20210314T060000
END:DAYLIGHT
BEGIN:STANDARD
TZOFFSETFROM:-0300
TZOFFSETTO:-0400
TZNAME:AST
DTSTART:20211107T050000
END:STANDARD
END:VTIMEZONE
BEGIN:VEVENT
DTSTART;TZID=America/New_York:20200617T180000
DTEND;TZID=America/New_York:20200617T180000
DTSTAMP:20260424T191820
CREATED:20160121T030726Z
LAST-MODIFIED:20160121T030726Z
UID:6061-1592416800-1592416800@bayvilleny.gov
SUMMARY:BVJC Court Cancelled
DESCRIPTION:The court session of the Bayville Village Justice Court scheduled for Wednesday\, June 17\, 2020 has been cancelled.
URL:https://bayvilleny.gov/event/village-justice-court-session-2020-06-17
LOCATION:NY
END:VEVENT
BEGIN:VEVENT
DTSTART;TZID=America/Halifax:20200616T193000
DTEND;TZID=America/Halifax:20200616T193000
DTSTAMP:20260424T191820
CREATED:20151126T015705Z
LAST-MODIFIED:20220927T200949Z
UID:6005-1592335800-1592335800@bayvilleny.gov
SUMMARY:CAR Meeting Cancelled
DESCRIPTION:The regular meeting of the Committee of Architectural Review of the Incorporated Village of Bayville scheduled for Tuesday\, June 16\, 2020 has been cancelled.\nMeeting Agendas
URL:https://bayvilleny.gov/event/car-meeting-2020-06-16
LOCATION:NY
CATEGORIES:Meetings
END:VEVENT
BEGIN:VEVENT
DTSTART;VALUE=DATE:20200616
DTEND;VALUE=DATE:20200617
DTSTAMP:20260424T191820
CREATED:20200601T123047Z
LAST-MODIFIED:20200601T123047Z
UID:7940-1592265600-1592351999@bayvilleny.gov
SUMMARY:General Village Election Postponed
DESCRIPTION:The General Village Election for the Incorporated Village of Bayville scheduled for Tuesday\, June 16\, 2020 has been postponed due to pandemic. Said election has been rescheduled for Tuesday\, September 15\, 2020.\nMeeting Agendas | Public Notices
URL:https://bayvilleny.gov/event/general-village-election-postponed
LOCATION:NY
END:VEVENT
BEGIN:VEVENT
DTSTART;TZID=America/New_York:20200609T193000
DTEND;TZID=America/New_York:20200609T193000
DTSTAMP:20260424T191820
CREATED:20181204T202358Z
LAST-MODIFIED:20220927T200931Z
UID:5784-1591731000-1591731000@bayvilleny.gov
SUMMARY:PB Meeting Cancelled
DESCRIPTION:The regular meeting of the Planning Board of the Incorporated Village of Bayville scheduled for Tuesday\, June 9\, 2020 has been cancelled.\nMeeting Agendas | Public Notices
URL:https://bayvilleny.gov/event/planning-board-meeting-2-2020-06-09
LOCATION:NY
CATEGORIES:Meetings
END:VEVENT
BEGIN:VEVENT
DTSTART;TZID=America/Halifax:20200527T193000
DTEND;TZID=America/Halifax:20200527T193000
DTSTAMP:20260424T191820
CREATED:20151126T020716Z
LAST-MODIFIED:20220927T200927Z
UID:6029-1590607800-1590607800@bayvilleny.gov
SUMMARY:ZBA Meeting Cancelled
DESCRIPTION:The regular meeting of the Zoning Board of Appeals of the Incorporated Village of Bayville scheduled for Wednesday\, May 27\, 2020 has been cancelled.\nMeeting Agendas | Public Notices
URL:https://bayvilleny.gov/event/zba-meeting-2016-09-28-2018-04-25-2020-05-27
LOCATION:NY
CATEGORIES:Meetings
END:VEVENT
BEGIN:VEVENT
DTSTART;VALUE=DATE:20200525
DTEND;VALUE=DATE:20200526
DTSTAMP:20260424T191820
CREATED:20200521T172346Z
LAST-MODIFIED:20200521T172346Z
UID:7851-1590364800-1590451199@bayvilleny.gov
SUMMARY:Memorial Day
DESCRIPTION:In observance of Memorial Day\, Village Hall and all departments will be closed on Monday\, May 25\nHoliday Sanitation Schedule for May 25-29\nMonday & Thursday garbage days move to Tuesday & Thursday\nTuesday & Friday garbage days move to Wednesday & Friday \nMonday recycling day moves to Tuesday\nTuesday recycling day moves to Wednesday\nThursday & Friday recycling days stay the same \nWednesday bulk trash collection remains suspended\nVillage beaches will be open Memorial Day weekend but their parking lots will be limited to 50% capacity as per Governor’s guidelines\nResidents on the beaches must maintain proper social distance; lifeguards will be enforcing distancing rules
URL:https://bayvilleny.gov/event/memorial-day-4
LOCATION:NY
END:VEVENT
BEGIN:VEVENT
DTSTART;TZID=America/New_York:20200521T193000
DTEND;TZID=America/New_York:20200521T193000
DTSTAMP:20260424T191820
CREATED:20160608T131142Z
LAST-MODIFIED:20220927T200923Z
UID:7408-1590089400-1590089400@bayvilleny.gov
SUMMARY:BECC Meeting Cancelled
DESCRIPTION:The regular meeting of the Bayville Environmental Conservation Commission of the Incorporated Village of Bayville scheduled for Thursday\, May 21\, 2020 has been cancelled.
URL:https://bayvilleny.gov/event/becc-meeting-5-2017-04-19-2020-05-21
LOCATION:bayv17-08_notice_to_bidders
CATEGORIES:Meetings
END:VEVENT
BEGIN:VEVENT
DTSTART;TZID=America/New_York:20200520T180000
DTEND;TZID=America/New_York:20200520T180000
DTSTAMP:20260424T191820
CREATED:20160121T030726Z
LAST-MODIFIED:20160121T030726Z
UID:6060-1589997600-1589997600@bayvilleny.gov
SUMMARY:BVJC Court Cancelled
DESCRIPTION:The court session of the Bayville Village Justice Court scheduled for Wednesday\, May 20\, 2020 has been cancelled.
URL:https://bayvilleny.gov/event/village-justice-court-session-2020-05-20
LOCATION:NY
END:VEVENT
BEGIN:VEVENT
DTSTART;TZID=America/Halifax:20200519T193000
DTEND;TZID=America/Halifax:20200519T193000
DTSTAMP:20260424T191820
CREATED:20151126T015705Z
LAST-MODIFIED:20220927T200918Z
UID:6004-1589916600-1589916600@bayvilleny.gov
SUMMARY:CAR Meeting Cancelled
DESCRIPTION:The regular meeting of the Committee of Architectural Review of the Incorporated Village of Bayville scheduled for Tuesday\, May 19\, 2020 has been cancelled.\nMeeting Agendas
URL:https://bayvilleny.gov/event/car-meeting-2020-05-19
LOCATION:NY
CATEGORIES:Meetings
END:VEVENT
BEGIN:VEVENT
DTSTART;TZID=America/New_York:20200518T100000
DTEND;TZID=America/New_York:20200518T100000
DTSTAMP:20260424T191820
CREATED:20191227T193811Z
LAST-MODIFIED:20220927T200903Z
UID:7378-1589796000-1589796000@bayvilleny.gov
SUMMARY:Board Meeting via Zoom
DESCRIPTION:As per the Governor’s Executive Orders\, issued in response to the coronavirus pandemic\, the Board of Trustees of the Incorporated Village of Bayville will hold a regular meeting via teleconferencing application Zoom on Monday\, May 18\, 2020 at 10:00 AM. Use information below to access meeting.\nVideo tutorials for the Zoom app are available online at: https://support.zoom.us/hc/en-us \nTopic: Board Meeting | May 18\, 2020\nTime: May 18\, 2020 10:00 AM Eastern Time (US and Canada) \nJoin Zoom Meeting:\nhttps://zoom.us/j/96497157413 \nMeeting ID: 964 9715 7413\nPassword: 258714 \nDial by your location\n+1 646 558 8656 US (New York) \nMeeting ID: 964 9715 7413\nPassword: 258714 \nOne tap mobile\n+16465588656\,\,96497157413#\,\,1#\,258714# US (New York) \nMeeting Agendas | Public Notices
URL:https://bayvilleny.gov/event/board-meeting-9
LOCATION:NY
CATEGORIES:Meetings
END:VEVENT
BEGIN:VEVENT
DTSTART;TZID=America/New_York:20200516T120000
DTEND;TZID=America/New_York:20200516T140000
DTSTAMP:20260424T191820
CREATED:20200514T163748Z
LAST-MODIFIED:20200514T163748Z
UID:7831-1589630400-1589637600@bayvilleny.gov
SUMMARY:Mask Giveaway in Syosset
DESCRIPTION:
URL:https://bayvilleny.gov/event/mask-giveaway-in-syosset
LOCATION:NY
ATTACH;FMTTYPE=:
END:VEVENT
BEGIN:VEVENT
DTSTART;TZID=America/New_York:20200515T083000
DTEND;TZID=America/New_York:20200515T163000
DTSTAMP:20260424T191820
CREATED:20200415T123018Z
LAST-MODIFIED:20200415T123018Z
UID:7837-1589531400-1589560200@bayvilleny.gov
SUMMARY:Water Bills Due
DESCRIPTION:Village Water Bills Due May 15\, 2020\nDue to pandemic\, Village Hall is currently closed to the public.\nWater bill payments can be made online by eCheck (ACH debit) or credit card.\nFees: flat fee of $2.50 for eChecks & 3.00% for credit cards\n(Fees are charged by the payment processor; the Village does not receive or collect any portion of these fees)\nClick/tap here to visit online payment website\nPayments can also be mailed to 34 School Street\, Bayville\, New York 11709. If you’re mailing in a payment\, it must be clearly postmarked by post office with a date of no later than May 15\, 2020. Any payments received after May 15\, 2020\, or postmarked May 16\, 2020 or later\, will incur a twelve percent (12%) penalty.\nChecks or money orders must be made payable to: Inc. Village of Bayville.
URL:https://bayvilleny.gov/event/water-bills-due-10
LOCATION:NY
END:VEVENT
BEGIN:VEVENT
DTSTART;TZID=America/New_York:20200512T193000
DTEND;TZID=America/New_York:20200512T193000
DTSTAMP:20260424T191820
CREATED:20181204T202358Z
LAST-MODIFIED:20220927T200857Z
UID:5783-1589311800-1589311800@bayvilleny.gov
SUMMARY:PB Meeting Cancelled
DESCRIPTION:The regular meeting of the Planning Board of the Incorporated Village of Bayville scheduled for Tuesday\, May 12\, 2020 has been cancelled.\nMeeting Agendas | Public Notices
URL:https://bayvilleny.gov/event/planning-board-meeting-2-2020-05-12
LOCATION:NY
CATEGORIES:Meetings
END:VEVENT
BEGIN:VEVENT
DTSTART;TZID=America/Halifax:20200429T193000
DTEND;TZID=America/Halifax:20200429T193000
DTSTAMP:20260424T191820
CREATED:20151126T020716Z
LAST-MODIFIED:20220927T200853Z
UID:6028-1588188600-1588188600@bayvilleny.gov
SUMMARY:ZBA Meeting Cancelled
DESCRIPTION:The regular meeting of the Zoning Board of Appeals of the Incorporated Village of Bayville scheduled for Wednesday\, April 29\, 2020 has been cancelled.\nMeeting Agendas | Public Notices
URL:https://bayvilleny.gov/event/zba-meeting-2016-09-28-2018-04-25-2020-04-29
LOCATION:NY
CATEGORIES:Meetings
END:VEVENT
BEGIN:VEVENT
DTSTART;TZID=America/New_York:20200429T190000
DTEND;TZID=America/New_York:20200429T203000
DTSTAMP:20260424T191820
CREATED:20200420T123041Z
LAST-MODIFIED:20200420T123041Z
UID:7772-1588186800-1588192200@bayvilleny.gov
SUMMARY:Community Shellfish Gardening Virtual Info Session
DESCRIPTION:
URL:https://bayvilleny.gov/event/community-shellfish-gardening-virtual-info-session
LOCATION:NY
ATTACH;FMTTYPE=:
END:VEVENT
BEGIN:VEVENT
DTSTART;TZID=America/Halifax:20200427T100000
DTEND;TZID=America/Halifax:20200427T100000
DTSTAMP:20260424T191820
CREATED:20151106T203215Z
LAST-MODIFIED:20220927T200846Z
UID:5909-1587981600-1587981600@bayvilleny.gov
SUMMARY:Board Meeting via Zoom
DESCRIPTION:The Board of Trustees of the Incorporated Village of Bayville will hold a regular meeting via teleconferencing application Zoom today at 10:00 AM. Use information below to access meeting.\nTopic: Board Meeting | April 27\, 2020\nTime: Apr 27\, 2020 10:00 AM Eastern Time (US and Canada) \nJoin Zoom Meeting\nhttps://zoom.us/j/157616753 \nMeeting ID: 157 616 753\nPassword: 780628\nOne tap mobile\n+16465588656\,\,157616753#\,\,#\,780628# US (New York) \nDial by your location\n+1 646 558 8656 US (New York) \nMeeting ID: 157 616 753\nPassword: 780628 \nMeeting Agendas | Public Notices
URL:https://bayvilleny.gov/event/board-meeting-2020-04-27
LOCATION:NY
CATEGORIES:Meetings
END:VEVENT
BEGIN:VEVENT
DTSTART;TZID=America/Halifax:20200421T193000
DTEND;TZID=America/Halifax:20200421T193000
DTSTAMP:20260424T191820
CREATED:20151126T015705Z
LAST-MODIFIED:20220927T200835Z
UID:6003-1587497400-1587497400@bayvilleny.gov
SUMMARY:CAR Meeting Cancelled
DESCRIPTION:The regular meeting of the Committee of Architectural Review of the Incorporated Village of Bayville scheduled for Tuesday\, April 21\, 2020 has been cancelled.\nMeeting Agendas
URL:https://bayvilleny.gov/event/car-meeting-2020-04-21
LOCATION:NY
CATEGORIES:Meetings
END:VEVENT
BEGIN:VEVENT
DTSTART;TZID=America/New_York:20200416T193000
DTEND;TZID=America/New_York:20200416T193000
DTSTAMP:20260424T191820
CREATED:20160608T131142Z
LAST-MODIFIED:20220927T200838Z
UID:7407-1587065400-1587065400@bayvilleny.gov
SUMMARY:BECC Meeting Cancelled
DESCRIPTION:The regular meeting of the Bayville Environmental Conservation Commission (BECC) scheduled for Thursday\, April 16\, 2020 has been cancelled.
URL:https://bayvilleny.gov/event/becc-meeting-5-2017-04-19-2020-04-16
LOCATION:bayv17-08_notice_to_bidders
CATEGORIES:Meetings
END:VEVENT
BEGIN:VEVENT
DTSTART;TZID=America/New_York:20200415T180000
DTEND;TZID=America/New_York:20200415T180000
DTSTAMP:20260424T191820
CREATED:20160121T030726Z
LAST-MODIFIED:20220927T200841Z
UID:6059-1586973600-1586973600@bayvilleny.gov
SUMMARY:BVJC Court Cancelled
DESCRIPTION:The Bayville Village Justice Court (BVJC) court session scheduled for Wednesday\, April 15\, 2020 has been cancelled.
URL:https://bayvilleny.gov/event/village-justice-court-session-2020-04-15
LOCATION:NY
CATEGORIES:Meetings
END:VEVENT
BEGIN:VEVENT
DTSTART;TZID=America/New_York:20200414T193000
DTEND;TZID=America/New_York:20200414T193000
DTSTAMP:20260424T191820
CREATED:20181204T202358Z
LAST-MODIFIED:20220927T200814Z
UID:5782-1586892600-1586892600@bayvilleny.gov
SUMMARY:PB Meeting Cancelled
DESCRIPTION:The regular meeting of the Planning Board of the Incorporated Village of Bayville scheduled for Tuesday\, April 14\, 2020 has been cancelled.\nMeeting Agendas | Public Notices
URL:https://bayvilleny.gov/event/planning-board-meeting-2-2020-04-14
LOCATION:NY
CATEGORIES:Meetings
END:VEVENT
BEGIN:VEVENT
DTSTART;TZID=America/Halifax:20200325T193000
DTEND;TZID=America/Halifax:20200325T193000
DTSTAMP:20260424T191820
CREATED:20151126T020716Z
LAST-MODIFIED:20220927T200809Z
UID:6027-1585164600-1585164600@bayvilleny.gov
SUMMARY:ZBA Meeting Cancelled
DESCRIPTION:The regular meeting of the Zoning Board of Appeals of the Incorporated Village of Bayville and all hearings scheduled for Wednesday\, March 25\, 2020 have been cancelled.\nMeeting Agendas | Public Notices
URL:https://bayvilleny.gov/event/zba-meeting-2016-09-28-2018-04-25-2020-03-25
LOCATION:NY
CATEGORIES:Meetings
END:VEVENT
BEGIN:VEVENT
DTSTART;TZID=America/Halifax:20200323T100000
DTEND;TZID=America/Halifax:20200323T100000
DTSTAMP:20260424T191820
CREATED:20151106T203215Z
LAST-MODIFIED:20220927T200805Z
UID:5908-1584957600-1584957600@bayvilleny.gov
SUMMARY:Board Meeting
DESCRIPTION:*PLEASE NOTE CHANGE IN MEETING TIME*\nThe Board of Trustees of the Incorporated Village of Bayville will hold a regular meeting on Monday\, March 23\, 2020 at 10:00 AM in Village Hall\, 34 School Street\, Bayville\, New York 11709. As per the Governor’s Executive Order No. 202.1\, issued in response to the coronavirus pandemic\, this meeting will be closed to the public. A video of the meeting will be available online.\nMeeting Agendas | Public Notices
URL:https://bayvilleny.gov/event/board-meeting-2020-03-23
LOCATION:NY
CATEGORIES:Meetings
END:VEVENT
BEGIN:VEVENT
DTSTART;TZID=America/New_York:20200319T193000
DTEND;TZID=America/New_York:20200319T193000
DTSTAMP:20260424T191820
CREATED:20160608T131142Z
LAST-MODIFIED:20220927T200757Z
UID:7406-1584646200-1584646200@bayvilleny.gov
SUMMARY:BECC Meeting Cancelled
DESCRIPTION:The regular meeting of the Bayville Environmental Conservation Commission of the Incorporated Village of Bayville scheduled for Thursday\, March 19\, 2020 has been cancelled.
URL:https://bayvilleny.gov/event/becc-meeting-5-2017-04-19-2020-03-19
LOCATION:bayv17-08_notice_to_bidders
CATEGORIES:Meetings
END:VEVENT
BEGIN:VEVENT
DTSTART;TZID=America/New_York:20200318T180000
DTEND;TZID=America/New_York:20200318T180000
DTSTAMP:20260424T191820
CREATED:20160121T030726Z
LAST-MODIFIED:20220927T200752Z
UID:6058-1584554400-1584554400@bayvilleny.gov
SUMMARY:BVJC Court Cancelled
DESCRIPTION:The Bayville Village Justice Court court session scheduled for Wednesday\, March 18\, 2020 has been cancelled.
URL:https://bayvilleny.gov/event/village-justice-court-session-2020-03-18
LOCATION:NY
CATEGORIES:Meetings
END:VEVENT
BEGIN:VEVENT
DTSTART;TZID=America/Halifax:20200317T193000
DTEND;TZID=America/Halifax:20200317T193000
DTSTAMP:20260424T191820
CREATED:20151126T015705Z
LAST-MODIFIED:20220927T200748Z
UID:6002-1584473400-1584473400@bayvilleny.gov
SUMMARY:CAR Meeting Cancelled
DESCRIPTION:The regular meeting of the Committee of Architectural Review of the Incorporated Village of Bayville scheduled for Tuesday\, March 17\, 2020 has been cancelled.\nMeeting Agendas
URL:https://bayvilleny.gov/event/car-meeting-2020-03-17
LOCATION:NY
CATEGORIES:Meetings
END:VEVENT
BEGIN:VEVENT
DTSTART;TZID=America/New_York:20200301T120000
DTEND;TZID=America/New_York:20200301T150000
DTSTAMP:20260424T191820
CREATED:20200225T133057Z
LAST-MODIFIED:20200225T133057Z
UID:7568-1583064000-1583074800@bayvilleny.gov
SUMMARY:Winter Museum Exhibit
DESCRIPTION:
URL:https://bayvilleny.gov/event/winter-museum-exhibit-mar-01-2020
LOCATION:NY
ATTACH;FMTTYPE=:
END:VEVENT
BEGIN:VEVENT
DTSTART;TZID=America/New_York:20200229T190000
DTEND;TZID=America/New_York:20200229T230000
DTSTAMP:20260424T191820
CREATED:20200130T133009Z
LAST-MODIFIED:20200130T133009Z
UID:7498-1583002800-1583017200@bayvilleny.gov
SUMMARY:BBC Dinner Dance
DESCRIPTION:
URL:https://bayvilleny.gov/event/bbc-dinner-dance-2020
LOCATION:NY
ATTACH;FMTTYPE=:
END:VEVENT
BEGIN:VEVENT
DTSTART;TZID=America/New_York:20200225T160000
DTEND;TZID=America/New_York:20200225T180000
DTSTAMP:20260424T191820
CREATED:20200220T133004Z
LAST-MODIFIED:20200220T133004Z
UID:7543-1582646400-1582653600@bayvilleny.gov
SUMMARY:Winter Volunteer Cleanup
DESCRIPTION:Tuesday\, February 25th 4 – 6 p.m. 95 Shore Road\, Cold Spring Harbor (former Mobil Property)\nNorth Shore Land Alliance will be hosting a volunteer event at Shore Road Sanctuary\, Cold Spring Harbor (95 Shore Road) from 4PM-6PM. Volunteers will be participating in a beach cleanup and tarping an area of the meadow. Please feel free to pass along information of this event to those interested. If anyone is looking to participate\, they can register with me at:\nkristen@northshorelandalliance.org or via office phone at (516) 922-1028
URL:https://bayvilleny.gov/event/winter-volunteer-cleanup-csh-2020
LOCATION:NY
END:VEVENT
BEGIN:VEVENT
DTSTART;TZID=America/New_York:20200222T090000
DTEND;TZID=America/New_York:20200222T090000
DTSTAMP:20260424T191820
CREATED:20200205T133021Z
LAST-MODIFIED:20200205T133021Z
UID:7539-1582362000-1582362000@bayvilleny.gov
SUMMARY:Work Session
DESCRIPTION:The Board of Trustees of the Incorporated Village of Bayville will hold a work session on Saturday\, February 22\, 2020 at 9:00 AM in Village Hall\, 34 School Street\, Bayville\, New York 11709.\nMeeting Agendas | Public Notices
URL:https://bayvilleny.gov/event/work-session-4
LOCATION:NY
END:VEVENT
BEGIN:VEVENT
DTSTART;TZID=America/New_York:20200220T193000
DTEND;TZID=America/New_York:20200220T193000
DTSTAMP:20260424T191820
CREATED:20160608T131142Z
LAST-MODIFIED:20220927T200743Z
UID:7405-1582227000-1582227000@bayvilleny.gov
SUMMARY:BECC Meeting Cancelled
DESCRIPTION:The regular meeting of the Bayville Environmental Conservation Commission (BECC) scheduled for Thursday\, February 20\, 2020 has been cancelled.\nThe BECC has rescheduled said regular meeting for Thursday\, February 13\, 2020 at 7:30 PM in Community Center\, 88 Bayville Avenue\, Bayville\, New York 11709.
URL:https://bayvilleny.gov/event/becc-meeting-5-2017-04-19-2020-02-20
LOCATION:bayv17-08_notice_to_bidders
CATEGORIES:Meetings
END:VEVENT
END:VCALENDAR