BEGIN:VCALENDAR
VERSION:2.0
PRODID:-//Village of Bayville NY - ECPv6.15.20//NONSGML v1.0//EN
CALSCALE:GREGORIAN
METHOD:PUBLISH
X-WR-CALNAME:Village of Bayville NY
X-ORIGINAL-URL:https://bayvilleny.gov
X-WR-CALDESC:Events for Village of Bayville NY
REFRESH-INTERVAL;VALUE=DURATION:PT1H
X-Robots-Tag:noindex
X-PUBLISHED-TTL:PT1H
BEGIN:VTIMEZONE
TZID:America/New_York
BEGIN:DAYLIGHT
TZOFFSETFROM:-0500
TZOFFSETTO:-0400
TZNAME:EDT
DTSTART:20210314T070000
END:DAYLIGHT
BEGIN:STANDARD
TZOFFSETFROM:-0400
TZOFFSETTO:-0500
TZNAME:EST
DTSTART:20211107T060000
END:STANDARD
BEGIN:DAYLIGHT
TZOFFSETFROM:-0500
TZOFFSETTO:-0400
TZNAME:EDT
DTSTART:20220313T070000
END:DAYLIGHT
BEGIN:STANDARD
TZOFFSETFROM:-0400
TZOFFSETTO:-0500
TZNAME:EST
DTSTART:20221106T060000
END:STANDARD
BEGIN:DAYLIGHT
TZOFFSETFROM:-0500
TZOFFSETTO:-0400
TZNAME:EDT
DTSTART:20230312T070000
END:DAYLIGHT
BEGIN:STANDARD
TZOFFSETFROM:-0400
TZOFFSETTO:-0500
TZNAME:EST
DTSTART:20231105T060000
END:STANDARD
BEGIN:DAYLIGHT
TZOFFSETFROM:-0500
TZOFFSETTO:-0400
TZNAME:EDT
DTSTART:20240310T070000
END:DAYLIGHT
BEGIN:STANDARD
TZOFFSETFROM:-0400
TZOFFSETTO:-0500
TZNAME:EST
DTSTART:20241103T060000
END:STANDARD
BEGIN:DAYLIGHT
TZOFFSETFROM:-0500
TZOFFSETTO:-0400
TZNAME:EDT
DTSTART:20250309T070000
END:DAYLIGHT
BEGIN:STANDARD
TZOFFSETFROM:-0400
TZOFFSETTO:-0500
TZNAME:EST
DTSTART:20251102T060000
END:STANDARD
BEGIN:DAYLIGHT
TZOFFSETFROM:-0500
TZOFFSETTO:-0400
TZNAME:EDT
DTSTART:20260308T070000
END:DAYLIGHT
BEGIN:STANDARD
TZOFFSETFROM:-0400
TZOFFSETTO:-0500
TZNAME:EST
DTSTART:20261101T060000
END:STANDARD
END:VTIMEZONE
BEGIN:VEVENT
DTSTART;TZID=America/New_York:20250717T133000
DTEND;TZID=America/New_York:20250717T193000
DTSTAMP:20260423T052013
CREATED:20250620T125919Z
LAST-MODIFIED:20250620T125919Z
UID:14977-1752759000-1752780600@bayvilleny.gov
SUMMARY:Blood Drive at BFC Firehouse\, Thurs\, July 17\, 1:30pm - 7:30pm
DESCRIPTION:
URL:https://bayvilleny.gov/event/blood-drive-at-bfc-firehouse-thurs-july-17-130pm-730pm
LOCATION:BFC Firehouse\, 258 Bayville Ave\, Bayville\, NY\, 11709\, United States
CATEGORIES:Community
END:VEVENT
BEGIN:VEVENT
DTSTART;TZID=America/New_York:20250105T100000
DTEND;TZID=America/New_York:20250105T143000
DTSTAMP:20260423T052013
CREATED:20241226T184523Z
LAST-MODIFIED:20241226T184523Z
UID:14494-1736071200-1736087400@bayvilleny.gov
SUMMARY:Blood Drive at BFC Firehouse\, Sun\, Jan 5\, 10am-2:30pm
DESCRIPTION:
URL:https://bayvilleny.gov/event/blood-drive-at-bfc-firehouse-sun-jan-5-10am-230pm
LOCATION:BFC Firehouse\, 258 Bayville Ave\, Bayville\, NY\, 11709\, United States
CATEGORIES:Community
END:VEVENT
BEGIN:VEVENT
DTSTART;TZID=America/New_York:20240618T120000
DTEND;TZID=America/New_York:20240618T210000
DTSTAMP:20260423T052013
CREATED:20240610T152217Z
LAST-MODIFIED:20240610T152326Z
UID:13893-1718712000-1718744400@bayvilleny.gov
SUMMARY:General Village Election
DESCRIPTION:ELECTION PUBLIC NOTICE CANDIDATES-2024_ENG-SPA
URL:https://bayvilleny.gov/event/general-village-election-2024
LOCATION:BFC Firehouse\, 258 Bayville Ave\, Bayville\, NY\, 11709\, United States
CATEGORIES:Community
END:VEVENT
BEGIN:VEVENT
DTSTART;TZID=America/New_York:20231021T110000
DTEND;TZID=America/New_York:20231021T150000
DTSTAMP:20260423T052013
CREATED:20230927T180610Z
LAST-MODIFIED:20230927T180610Z
UID:13052-1697886000-1697900400@bayvilleny.gov
SUMMARY:BFC Fire Prevention Open House
DESCRIPTION:
URL:https://bayvilleny.gov/event/bfc-fire-prevention-open-house
LOCATION:BFC Firehouse\, 258 Bayville Ave\, Bayville\, NY\, 11709\, United States
CATEGORIES:Community
END:VEVENT
BEGIN:VEVENT
DTSTART;TZID=America/New_York:20221211T100000
DTEND;TZID=America/New_York:20221211T160000
DTSTAMP:20260423T052013
CREATED:20221210T195647Z
LAST-MODIFIED:20221210T195647Z
UID:11784-1670752800-1670774400@bayvilleny.gov
SUMMARY:Blood Drive
DESCRIPTION:
URL:https://bayvilleny.gov/event/blood-drive-8
LOCATION:BFC Firehouse\, 258 Bayville Ave\, Bayville\, NY\, 11709\, United States
CATEGORIES:Community
END:VEVENT
END:VCALENDAR